BEGIN:VCALENDAR
VERSION:2.0
PRODID:-//wp-events-plugin.com//7.2.3.1//EN
BEGIN:VEVENT
UID:0-560@gsana.org
DTSTART:20160706T230000Z
DTEND:20160707T011500Z
DTSTAMP:20160619T024310Z
URL:https://gsana.org/events/what-can-we-do-group-3rd-anniversary/
SUMMARY:What Can We Do Group 3rd Anniversary
DESCRIPTION:Download Flyer Here\nWhat Can We Do Group 3rd Anniversary\nJULY
  6TH\, 2016 STARTS AT 6:00 PM\n961 Valley Street\, Manchester\, NH\nAt The
  United Methodist Church\nThe Wednesday night group is celebrating their 3
 rd anniversary. \nThe party will be from 6:00 PM to 7:00 PM followed by t
 he regular meeting from 7:00 PM to 8:15 PM. All are WELCOME!!!!!!!\n◊FOO
 D        ◊FUN          ◊FELLOWSHIP          
 ◊FREE. \n-If you are interested in bringing any food or desserts\, that
  would be greatly appreciated. Pizza and beverages provided.\nIt works! Ke
 ep Coming Back!
CATEGORIES:Recovery Event
LOCATION:First United Methodist Church\, 961 Valley Street\, Manchester\, N
 H\, 03103\, Northern New England\, United States
GEO:42.9810395;-71.43877370000001
X-APPLE-STRUCTURED-LOCATION;VALUE=URI;X-ADDRESS=961 Valley Street\, Manches
 ter\, NH\, 03103\, Northern New England\, United States;X-APPLE-RADIUS=100
 ;X-TITLE=First United Methodist Church:geo:42.9810395,-71.43877370000001
END:VEVENT
END:VCALENDAR