BEGIN:VCALENDAR
VERSION:2.0
PRODID:-//wp-events-plugin.com//7.2.3.1//EN
BEGIN:VEVENT
UID:0-2201@gsana.org
DTSTART:20230402T180000Z
DTEND:20230402T203000Z
DTSTAMP:20230306T054147Z
URL:https://gsana.org/events/weekend-wind-down-1-year-anniversary/
SUMMARY:Weekend Wind Down 1 Year Anniversary
DESCRIPTION:Weekend Wind Down 1 Year Anniversary!\n\nApril 2\, 2023\n\nPizz
 a Party ~ 6 pm\nNA Speaker ~ 6:30 pm\nRegular NA Meeting ~ 7 to 8:30 pm\n\
 nTriangle Club\n120 Broadway\nDover\, NH 03820 \n\nEveryone Welcome!
CATEGORIES:Recovery Event
LOCATION:Triangle Club\, 120 Broadway\, Dover \, NH\, Northern New England\
 , United States
GEO:43.20587;-70.868648
X-APPLE-STRUCTURED-LOCATION;VALUE=URI;X-ADDRESS=120 Broadway\, Dover \, NH\
 , Northern New England\, United States;X-APPLE-RADIUS=100;X-TITLE=Triangle
  Club:geo:43.20587,-70.868648
END:VEVENT
END:VCALENDAR