BEGIN:VCALENDAR
VERSION:2.0
PRODID:-//wp-events-plugin.com//7.2.3.1//EN
BEGIN:VEVENT
UID:0-267@gsana.org
DTSTART:20151205T230000Z
DTEND:20151206T011500Z
DTSTAMP:20141224T141700Z
URL:https://gsana.org/events/we-all-belong-group-monthly-dinner-and-meetin
 g-event-2015-12-05/
SUMMARY:We All Belong Group Monthly Dinner and Meeting Event
DESCRIPTION:Download Flyer Here\n\nWe All Belong Group\n\nUnitarian Univers
 alist Church\n\n172 Pleasant Street\, Laconia NH\n\nOn the 1st Saturday of
  every month\n\n6-7pm Dinner\n\n7-8:30pm Step and Tradition Meeting\n\nWe 
 have a different theme each month\n\nJoin us for some good eats\n\nand Fel
 lowship\n\n24 Hour Helpline Number Toll Free\n\n888-NA-HELP-U (888-624-357
 8)
CATEGORIES:Recovery Event
LOCATION:Unitarian Universalist Church\, 172 Pleasant Street\, Laconia\, NH
 \, Northern New England\, United States
GEO:43.5292973;-71.4749875
X-APPLE-STRUCTURED-LOCATION;VALUE=URI;X-ADDRESS=172 Pleasant Street\, Lacon
 ia\, NH\, Northern New England\, United States;X-APPLE-RADIUS=100;X-TITLE=
 Unitarian Universalist Church:geo:43.5292973,-71.4749875
END:VEVENT
END:VCALENDAR