BEGIN:VCALENDAR
VERSION:2.0
PRODID:-//wp-events-plugin.com//7.2.3.1//EN
BEGIN:VEVENT
UID:0-2206@gsana.org
DTSTART:20230704T000000Z
DTEND:20230704T013000Z
DTSTAMP:20230622T103157Z
URL:https://gsana.org/events/virtual-platform-ad-hoc/
SUMMARY:Virtual Platform Ad Hoc
DESCRIPTION:GSANA Virtual Platform Ad-hoc @ Mon Jul 3\, 2023 7pm - 8pm (EDT
 )\n\nhttp://meet.google.com/bpx-gxwp-nkf\n\n&nbsp\;
CATEGORIES:Service Meetings
LOCATION:http://meet.google.com/bpx-gxwp-nkf
END:VEVENT
END:VCALENDAR