BEGIN:VCALENDAR
VERSION:2.0
PRODID:-//wp-events-plugin.com//7.2.3.1//EN
BEGIN:VEVENT
UID:0-2214@gsana.org
DTSTART:20230820T220000Z
DTEND:20230821T020000Z
DTSTAMP:20230731T132716Z
URL:https://gsana.org/events/trusting-the-process-anniversary-celebration/
SUMMARY:Trusting the Process Anniversary Celebration
DESCRIPTION:
CATEGORIES:Recovery Event
LOCATION:33 Pine St Nashua\, NH\, 33 Pine St\, Nashua\, NH\, 03060\, United
  States
GEO:42.758187;-71.472662
X-APPLE-STRUCTURED-LOCATION;VALUE=URI;X-ADDRESS=33 Pine St\, Nashua\, NH\, 
 03060\, United States;X-APPLE-RADIUS=100;X-TITLE=33 Pine St Nashua\, NH:ge
 o:42.758187,-71.472662
END:VEVENT
END:VCALENDAR