BEGIN:VCALENDAR
VERSION:2.0
PRODID:-//wp-events-plugin.com//7.2.3.1//EN
BEGIN:VEVENT
UID:0-2209@gsana.org
DTSTART:20230707T000000Z
DTEND:20230707T030000Z
DTSTAMP:20230704T021132Z
URL:https://gsana.org/events/the-promise-is-freedom-tailgate-party/
SUMMARY:“The promise is freedom” Tailgate party
DESCRIPTION:
CATEGORIES:Recovery Event
LOCATION:Derryfield Park\, Bridge St\, Manchester\, NH\, 03104\, United Sta
 tes
GEO:42.99728;-71.441141
X-APPLE-STRUCTURED-LOCATION;VALUE=URI;X-ADDRESS=Bridge St\, Manchester\, NH
 \, 03104\, United States;X-APPLE-RADIUS=100;X-TITLE=Derryfield Park:geo:42
 .99728,-71.441141
END:VEVENT
END:VCALENDAR