BEGIN:VCALENDAR
VERSION:2.0
PRODID:-//wp-events-plugin.com//7.2.3.1//EN
BEGIN:VEVENT
UID:0-2487@gsana.org
DTSTART:20241128T170000Z
DTEND:20241129T020000Z
DTSTAMP:20241020T220018Z
URL:https://gsana.org/events/thanksgiving-narcathon-2024/
SUMMARY:Thanksgiving Narcathon 2024
DESCRIPTION:
CATEGORIES:Recovery Event
LOCATION:Hudson Community Church\, 19 Central Street\, Hudson\, NH\, 03051\
 , Northern New England\, United States
GEO:42.7625686;-71.4409104
X-APPLE-STRUCTURED-LOCATION;VALUE=URI;X-ADDRESS=19 Central Street\, Hudson\
 , NH\, 03051\, Northern New England\, United States;X-APPLE-RADIUS=100;X-T
 ITLE=Hudson Community Church:geo:42.7625686,-71.4409104
END:VEVENT
END:VCALENDAR