BEGIN:VCALENDAR
VERSION:2.0
PRODID:-//wp-events-plugin.com//7.2.3.1//EN
BEGIN:VEVENT
UID:0-1488@gsana.org
DTSTART:20191123T203000Z
DTEND:20191124T013000Z
DTSTAMP:20191104T201657Z
URL:https://gsana.org/events/thanks-for-being-here-gsacna-xi-fundraiser/
SUMMARY:Thanks for Being Here - GSACNA XI Fundraiser
DESCRIPTION:The GSACC Fundraising &amp\; Entertainment subcommittee present
 s....\nTHANKS FOR BEING HERE XVII\nCome join us on Saturday\, November 23 
 th for an evening of food\, fun\, and fellowship. This event is a fundrais
 er to help generate funds for GSACNA XI\, being held in 2021.\nWe’ll be 
 having a feast of turkey with all the trimmings. We’ll supply the turkey
 \, you bring the trimmings (sides and dessert)!!\nPlease register with the
  one of the contacts below so we know what everyone is bringing.\n\nDate: 
 Saturday\, November 23\, 2019\nTime: 3:30 pm – 8:30 pm\nPlace: United Me
 thodist Church\n154 Main Street\, Nashua\, New Hampshire\n(Parking in rear
  of church off Temple Street)\n\nTickets can be purchased online or from a
  committee member. To obtain further information\, please contact a conven
 tion committee member or\none of the following people:\n\nIsa R.L. (917) 2
 32-2623\nJoe G (603) 591-3107\n\nCost:\n\n&gt\; $10 adults and teen (13 to
  17)\n&gt\; Kids 12 &amp\; under FREE\n\n&nbsp\;\n\nSchedule:   \n\n\n3:
 30 pm-4:30 pm Arrive with trimmings\n4:30 pm-6:30 pm Turkey feast (trimmin
 gs supplied by attendees!)\n5:30 pm-6:45pm Auction\n7:00 pm-8:30 pm Regula
 r Meeting of "A New Way of Life" Group\n\n&nbsp\;\n\nDonation of NA Auctio
 n Items from the fellowship would be greatly appreciated.\n\n&nbsp\;\n\nDi
 rections\n\nTake Everett Turnpike (US-3) to Exit 5 in New Hampshire. Take 
 NH-111 East into Downtown Nashua. Turn Left onto Main Street. Church is 0.
 3 miles on the Right.\n\n&nbsp\;\n\nDownload Event Flyer Here\n\n&nbsp\;
CATEGORIES:Recovery Event
LOCATION:Main Street United Methodist Church\, 154 Main Street\, Nashua\, N
 H\, 03060\, Northern New England\, United States
GEO:42.7612411;-71.4649536
X-APPLE-STRUCTURED-LOCATION;VALUE=URI;X-ADDRESS=154 Main Street\, Nashua\, 
 NH\, 03060\, Northern New England\, United States;X-APPLE-RADIUS=100;X-TIT
 LE=Main Street United Methodist Church:geo:42.7612411,-71.4649536
END:VEVENT
END:VCALENDAR