BEGIN:VCALENDAR
VERSION:2.0
PRODID:-//wp-events-plugin.com//7.2.3.1//EN
BEGIN:VEVENT
UID:0-2485@gsana.org
DTSTART:20241123T200000Z
DTEND:20241124T010000Z
DTSTAMP:20241009T204715Z
URL:https://gsana.org/events/thanks-2024/
SUMMARY:Thanks for being here 2024
DESCRIPTION:Register online NOW!!!\n&nbsp\;\n\n
CATEGORIES:Recovery Event
LOCATION:United Methodist Church\, 154 Main Street\, Nashua\, NH\, 03060\, 
 Northern New England\, United States
GEO:42.7612411;-71.4649536
X-APPLE-STRUCTURED-LOCATION;VALUE=URI;X-ADDRESS=154 Main Street\, Nashua\, 
 NH\, 03060\, Northern New England\, United States;X-APPLE-RADIUS=100;X-TIT
 LE=United Methodist Church:geo:42.7612411,-71.4649536
END:VEVENT
END:VCALENDAR