BEGIN:VCALENDAR
VERSION:2.0
PRODID:-//wp-events-plugin.com//7.2.3.1//EN
BEGIN:VEVENT
UID:0-1133@gsana.org
DTSTART:20180317T140000Z
DTEND:20180317T170000Z
DTSTAMP:20180208T161145Z
URL:https://gsana.org/events/sunny-side-up-sponsorship-breakfast/
SUMMARY:Sunny Side Up Sponsorship Breakfast
DESCRIPTION:Download Flyer Here\nSeacoast Area\n Sunnyside Up Sponsorship 
 Breakfast\nMarch 17\, 2018 from 9am till noon\n\nCalvary Assembly of God C
 hurch\n100 Academy Street - Laconia\, NH\n\nSuggested donation is $5 for a
 dults and $3 kids under 12\, but no addict will be turned away. We will be
  serving pancakes\, scrambled eggs\, sausage\, bacon\, coffee\, milk\, jui
 ce and fruit. Proceeds support the Freedom Under the Stars 2018 Camp Out.\
 nSponsorship Speakers at 10am.\n\n&nbsp\;\n\n 
CATEGORIES:Recovery Event
LOCATION:Calvary Assembly of God\, 100 Academy Street\, Laconia\, NH\, 0324
 6\, Northern New England\, United States
GEO:43.5212447;-71.4706251
X-APPLE-STRUCTURED-LOCATION;VALUE=URI;X-ADDRESS=100 Academy Street\, Laconi
 a\, NH\, 03246\, Northern New England\, United States;X-APPLE-RADIUS=100;X
 -TITLE=Calvary Assembly of God:geo:43.5212447,-71.4706251
END:VEVENT
END:VCALENDAR