BEGIN:VCALENDAR
VERSION:2.0
PRODID:-//wp-events-plugin.com//7.2.3.1//EN
BEGIN:VEVENT
UID:0-558@gsana.org
DTSTART:20160528T170000Z
DTEND:20160529T000000Z
DTSTAMP:20160525T125718Z
URL:https://gsana.org/events/speaking-green-gold-group-anniversary/
SUMMARY:Speaking Green & Gold Group Anniversary
DESCRIPTION:Speaking Green &amp\; Gold Group Anniversary\nMay 28\, 2016 fro
 m noon - 7pm\nUnited Methodist Church\n35 Tower Street\, Laconia\, NH\, 03
 249
CATEGORIES:Recovery Event
LOCATION:Weirs United Methodist Church\, 35 Tower Street\, Laconia\, NH\, U
 nited States
GEO:43.6078389;-71.46086600000001
X-APPLE-STRUCTURED-LOCATION;VALUE=URI;X-ADDRESS=35 Tower Street\, Laconia\,
  NH\, United States;X-APPLE-RADIUS=100;X-TITLE=Weirs United Methodist Chur
 ch:geo:43.6078389,-71.46086600000001
END:VEVENT
END:VCALENDAR