BEGIN:VCALENDAR
VERSION:2.0
PRODID:-//wp-events-plugin.com//7.2.3.1//EN
BEGIN:VEVENT
UID:0-551@gsana.org
DTSTART:20160409T180000Z
DTEND:20160409T200000Z
DTSTAMP:20160306T160914Z
URL:https://gsana.org/events/seacoast-recovery-bowling-2/
SUMMARY:Seacoast Recovery Bowling
DESCRIPTION:Download Flyer Here\nRecovery Bowling\nFundraiser for Freedom U
 nder the Stars Campout\nAPRIL 9\, 2016\n1:00pm – 3:00pm\nDOVER BOWL\n887
  CENTRAL AVE\nDOVER NH\n$15 TICKET\nINCLUDES SHOES &amp\; 3 GAMES\nFOOD &a
 mp\; DRINKS AVAILABLE FOR SALE\nCONTACTS:\nHarry D\, Mike S and Jessica M.
 \n24 Hour Helpline Number\nToll Free 888-NA-HELP-U (888-624-3578)\n&nbsp\;
CATEGORIES:Recovery Event
LOCATION:Dover Bowl\, 887 Central Ave.\, Dover\, NH\, 03820\, Northern New 
 England\, United States
GEO:43.21825949999999;-70.8831237
X-APPLE-STRUCTURED-LOCATION;VALUE=URI;X-ADDRESS=887 Central Ave.\, Dover\, 
 NH\, 03820\, Northern New England\, United States;X-APPLE-RADIUS=100;X-TIT
 LE=Dover Bowl:geo:43.21825949999999,-70.8831237
END:VEVENT
END:VCALENDAR