BEGIN:VCALENDAR
VERSION:2.0
PRODID:-//wp-events-plugin.com//7.2.3.1//EN
BEGIN:VEVENT
UID:0-1849@gsana.org
DTSTART:20210619T150000Z
DTEND:20210619T170000Z
DTSTAMP:20210419T114724Z
URL:https://gsana.org/events/seacoast-parenthood-in-recovery-speaker-jam/
SUMMARY:Seacoast Parenthood in Recovery Speaker Jam
DESCRIPTION:Download Flyer Here\n\nSeacoast Area\nParenthood in Recovery Sp
 eaker Jam\n\nJune 19\, 2021\n3 pm to 5 pm or later\n\nThis is a hybrid eve
 nt (virtual and face to face)\n\nZoom ID 837 7008 3752\n\nLive location:\n
 Tri City Co-op\n55 Summer Street \nRochester\, NH 03867
CATEGORIES:Recovery Event
LOCATION:Tri-City Co-op\, 55 Summer Street\, Rochester\, NH\, 03867\, North
 ern New England\, United States
GEO:43.308048;-70.972187
X-APPLE-STRUCTURED-LOCATION;VALUE=URI;X-ADDRESS=55 Summer Street\, Rocheste
 r\, NH\, 03867\, Northern New England\, United States;X-APPLE-RADIUS=100;X
 -TITLE=Tri-City Co-op:geo:43.308048,-70.972187
END:VEVENT
END:VCALENDAR