BEGIN:VCALENDAR
VERSION:2.0
PRODID:-//wp-events-plugin.com//7.2.3.1//EN
BEGIN:VEVENT
UID:0-1162@gsana.org
DTSTART:20180929T150000Z
DTEND:20180929T203000Z
DTSTAMP:20180812T122635Z
URL:https://gsana.org/events/seacoast-major-recovery-hike-2018/
SUMMARY:Seacoast Major Recovery Hike 2018
DESCRIPTION:Download Flyer Here\nSeacoast Area\nMajor Recovery Hike 2018\nS
 aturday\, September 29th\, 2018\n\nMount Major - Alton\, New Hampshire\n\n
 Meet at the bottom parking area at 10am. Meeting on\n\ntop of Mount Major 
 at noon. Bring plenty of water\, a\n\nsnack or light lunch if you want. Co
 mfortable Footwear\n\nis recommended as it's a moderate to difficult hike.
 \n\nThis is a family event so bring the kids.
ATTACH;FMTTYPE=image/jpeg:https://gsana.org/wp-content/uploads/2018/05/chi
 llpill.gif
CATEGORIES:Recovery Event
LOCATION:Mt Major Parking Lot\, 875 Mt Major Hwy\, Alton\, NH\, 03810\, Nor
 thern New England\, United States
GEO:43.519294;-71.2735834
X-APPLE-STRUCTURED-LOCATION;VALUE=URI;X-ADDRESS=875 Mt Major Hwy\, Alton\, 
 NH\, 03810\, Northern New England\, United States;X-APPLE-RADIUS=100;X-TIT
 LE=Mt Major Parking Lot:geo:43.519294,-71.2735834
END:VEVENT
END:VCALENDAR