BEGIN:VCALENDAR
VERSION:2.0
PRODID:-//wp-events-plugin.com//7.2.3.1//EN
BEGIN:VEVENT
UID:0-1847@gsana.org
DTSTART:20210501T120000Z
DTEND:20210501T150000Z
DTSTAMP:20210413T053153Z
URL:https://gsana.org/events/seacoast-cookout-and-meeting/
SUMMARY:Seacoast Cookout and Meeting
DESCRIPTION:Download Flyer Here\n\nSeacoast Area Cookout &amp\; Meeting\n\n
 May 1st\, 2021 from noon to 3pm or later\n\nJoin us for a cookout and JFT 
 meeting. \nLarge spacious area with playground and picnic tables.\nWe wil
 l also be voting on T-Shirt designs for this years \nFreedom Under the St
 ars XXX Campout\n$5.00 suggested donation.\n\nHilton Park\nDover Point Roa
 d\nDover\, NH 03820\n\n&nbsp\;\n\n&nbsp\;
CATEGORIES:Recovery Event
LOCATION:Hilton Park\, Dover Point Road\, Dover\, NH\, 03820\, United State
 s
GEO:43.1491874;-70.8394849
X-APPLE-STRUCTURED-LOCATION;VALUE=URI;X-ADDRESS=Dover Point Road\, Dover\, 
 NH\, 03820\, United States;X-APPLE-RADIUS=100;X-TITLE=Hilton Park:geo:43.1
 491874,-70.8394849
END:VEVENT
END:VCALENDAR