BEGIN:VCALENDAR
VERSION:2.0
PRODID:-//wp-events-plugin.com//7.2.3.1//EN
BEGIN:VEVENT
UID:0-1842@gsana.org
DTSTART:20210410T120000Z
DTEND:20210410T150000Z
DTSTAMP:20210321T082039Z
URL:https://gsana.org/events/seacoast-area-trail-hike-bbq/
SUMMARY:Seacoast Area Trail Hike BBQ
DESCRIPTION:Download Flyer Here\n\nSeacoast Area \nTrail Hike BBQ\n\nTrail
  Hike\, Followed by BBQ\n\nSaturday April 10\nNoon - 3 pm\n\nGreat Bay Wil
 dlife Refuge\nNewington\, NH
CATEGORIES:Recovery Event
LOCATION:Great Bay National Wildlife Refuge\, 29-1 Merrimac Drive\, Newingt
 on\, NH\, 03801\, Northern New England\, United States
GEO:43.092735;-70.843702
X-APPLE-STRUCTURED-LOCATION;VALUE=URI;X-ADDRESS=29-1 Merrimac Drive\, Newin
 gton\, NH\, 03801\, Northern New England\, United States;X-APPLE-RADIUS=10
 0;X-TITLE=Great Bay National Wildlife Refuge:geo:43.092735,-70.843702
END:VEVENT
END:VCALENDAR