BEGIN:VCALENDAR
VERSION:2.0
PRODID:-//wp-events-plugin.com//7.2.3.1//EN
BEGIN:VEVENT
UID:0-1112@gsana.org
DTSTART:20171224T190000Z
DTEND:20171225T020000Z
DTSTAMP:20171120T044332Z
URL:https://gsana.org/events/seacoast-area-holiday-narathon-5/
SUMMARY:Seacoast Area Holiday Narathon
DESCRIPTION:Download Flyer Here\nCome check out our Holiday Narathon!\nTri-
 City Co-op\n55 Summer Street\nRochester\, NH 03867\nSunday December 24\, 2
 017 from 2-9 pm\nMonday December 25\, 2017 6 pm - midnight\nMeetings on th
 e hour\nSide dishes and desserts welcome!\n&nbsp\;
CATEGORIES:Recovery Event
LOCATION:Tri-City Co-op\, 55 Summer Street\, Rochester\, NH\, 03867\, North
 ern New England\, United States
GEO:43.3081372;-70.97247340000001
X-APPLE-STRUCTURED-LOCATION;VALUE=URI;X-ADDRESS=55 Summer Street\, Rocheste
 r\, NH\, 03867\, Northern New England\, United States;X-APPLE-RADIUS=100;X
 -TITLE=Tri-City Co-op:geo:43.3081372,-70.97247340000001
END:VEVENT
END:VCALENDAR