BEGIN:VCALENDAR
VERSION:2.0
PRODID:-//wp-events-plugin.com//7.2.3.1//EN
BEGIN:VEVENT
UID:0-1491@gsana.org
DTSTART:20200111T160000Z
DTEND:20200111T180000Z
DTSTAMP:20191111T041210Z
URL:https://gsana.org/events/portsmouth-no-name-2-year-anniversary/
SUMMARY:Portsmouth No Name 2 Year Anniversary
DESCRIPTION:Download Flyer Here\n\nThe Portsmouth No Name  Group of Narcot
 ics Anonymous\nInvites you to join us for \nOur 2 Year Anniversary  Potl
 uck Party and Meeting\n(Food\, Fellowship\, and NA Speakers)\n\nOn Saturda
 y\, January 11\, 2020 \n(Snow Date: Saturday\, January 18\, 2020)\n\nFrom:
  11 AM - 1 PM\n\nSafe Harbor Recovery Center\n865 Islington Street\nPortsm
 outh\, NH 03801
CATEGORIES:Recovery Event
LOCATION:Safe Harbor\, 865 Islington Street\, Portsmouth\, Portsmouth\, 038
 01\, Northern New England\, United States
GEO:43.068243;-70.774055
X-APPLE-STRUCTURED-LOCATION;VALUE=URI;X-ADDRESS=865 Islington Street\, Port
 smouth\, Portsmouth\, 03801\, Northern New England\, United States;X-APPLE
 -RADIUS=100;X-TITLE=Safe Harbor:geo:43.068243,-70.774055
END:VEVENT
END:VCALENDAR