BEGIN:VCALENDAR
VERSION:2.0
PRODID:-//wp-events-plugin.com//7.2.3.1//EN
BEGIN:VEVENT
UID:0-2202@gsana.org
DTSTART:20230422T150000Z
DTEND:20230422T190000Z
DTSTAMP:20230320T115733Z
URL:https://gsana.org/events/our-road-to-spiritual-growth/
SUMMARY:Our Road to Spiritual Growth
DESCRIPTION:
CATEGORIES:Recovery Event
LOCATION:Wason Pond\, 569 NH-102\, Chester\, NH\, 03036\, United States
GEO:42.981843;-71.22115
X-APPLE-STRUCTURED-LOCATION;VALUE=URI;X-ADDRESS=569 NH-102\, Chester\, NH\,
  03036\, United States;X-APPLE-RADIUS=100;X-TITLE=Wason Pond:geo:42.981843
 ,-71.22115
END:VEVENT
END:VCALENDAR