BEGIN:VCALENDAR
VERSION:2.0
PRODID:-//wp-events-plugin.com//7.2.3.1//EN
BEGIN:VEVENT
UID:0-1163@gsana.org
DTSTART;VALUE=DATE:20181026
DTEND;VALUE=DATE:20181029
DTSTAMP:20180814T052236Z
URL:https://gsana.org/events/northeast-zonal-forum-meeting/
SUMMARY:Northeast Zonal Forum Meeting
DESCRIPTION:Download Flyer Here\nNortheast Zonal Forum Meeting\nIn The Nort
 hern New England Region!\nOctober 26-28\, 2018\nHampton Inn\n48 Industrial
  Park Drive\nSaco\, ME 04072\n\nFriday Night Orientation\nSaturday Discuss
 ion Sessions\nSunday NEZF Business Sessions\n\nwww.nezf.org\n\nFor Hotel R
 eservations:\nhttp://hamptoninn3.hilton.com/en/hotels/maine/hampton-inn-sa
 co-biddeford-PWMSCHX/index.html\nor call (207)282-7222 and mentIon NORTHEA
 STZONAL\nSpecial rate of $119 per night available if registered by August 
 30
CATEGORIES:Service Meetings
LOCATION:Hampton Inn\, 48 Industrial Park Road\, Saco \, ME\, 04072\, North
 ern New England\, United States
GEO:43.5254313;-70.44618609999998
X-APPLE-STRUCTURED-LOCATION;VALUE=URI;X-ADDRESS=48 Industrial Park Road\, S
 aco \, ME\, 04072\, Northern New England\, United States;X-APPLE-RADIUS=10
 0;X-TITLE=Hampton Inn:geo:43.5254313,-70.44618609999998
END:VEVENT
END:VCALENDAR