BEGIN:VCALENDAR
VERSION:2.0
PRODID:-//wp-events-plugin.com//7.2.3.1//EN
BEGIN:VEVENT
UID:0-1490@gsana.org
DTSTART:20191231T230000Z
DTEND:20200101T053000Z
DTSTAMP:20191109T023628Z
URL:https://gsana.org/events/new-years-eve-glow-party/
SUMMARY:New Years Eve Glow Party
DESCRIPTION:Download Flyer Here\n\nGranite State Area\nNew Years Eve Glow P
 arty\nTuesday\, December 31\, 2019\n6 pm - 12:30 am\n\nUnited Methodist Ch
 urch\n154 Main Street\nNashua\, NH 03060\n\n6-7:30 pm~Potluck Dinner\n7:30
 -8:30 pm~Green &amp\; Gold Speaker Meeting\n8:30 -9:30 pm~Karaoke\n9:30 pm
  - 12:30 am~Dance/New Years Eve Countdown\n\nFOOD! FUN! FELLOWSHIP! DANCE!
   
CATEGORIES:Recovery Event
LOCATION:United Methodist Church\, 154 Main Street\, Nashua\, NH\, 03060\, 
 Northern New England\, United States
GEO:42.7612411;-71.4649536
X-APPLE-STRUCTURED-LOCATION;VALUE=URI;X-ADDRESS=154 Main Street\, Nashua\, 
 NH\, 03060\, Northern New England\, United States;X-APPLE-RADIUS=100;X-TIT
 LE=United Methodist Church:geo:42.7612411,-71.4649536
END:VEVENT
END:VCALENDAR