BEGIN:VCALENDAR
VERSION:2.0
PRODID:-//wp-events-plugin.com//7.2.3.1//EN
BEGIN:VEVENT
UID:0-2529@gsana.org
DTSTART;VALUE=DATE:20250314
DTEND;VALUE=DATE:20250317
DTSTAMP:20250111T190020Z
URL:https://gsana.org/events/nerc-xx/
SUMMARY:NERC XX
DESCRIPTION:
CATEGORIES:Recovery Event
LOCATION:Sturbridge Host\, 366 Main St\, Sturbridge\, MA\, 01566\, United S
 tates
GEO:42.112286;-72.089451
X-APPLE-STRUCTURED-LOCATION;VALUE=URI;X-ADDRESS=366 Main St\, Sturbridge\, 
 MA\, 01566\, United States;X-APPLE-RADIUS=100;X-TITLE=Sturbridge Host:geo:
 42.112286,-72.089451
END:VEVENT
END:VCALENDAR