BEGIN:VCALENDAR
VERSION:2.0
PRODID:-//wp-events-plugin.com//7.2.3.1//EN
BEGIN:VEVENT
UID:0-559@gsana.org
DTSTART:20170614T150000Z
DTEND:20170618T003000Z
DTSTAMP:20170607T152450Z
URL:https://gsana.org/events/na-fun-run-and-bbq/
SUMMARY:NA Bike Week Meetings/Fun Run and BBQ
DESCRIPTION:Download NA Bike Week Meeting Schedule \n\nDownload Fun Run Fly
 er \nNA Meetings During Bike Week 2017\n\nAll meetings at Weirs Beach Unit
 ed Methodist Church\n35 Tower Street\, Weirs Beach\, Laconia\, NH\n\nMeeti
 ng Times 10-11:30 am and 6-7:30 pm\n\n6/14/17 Wednesday\n6/15/17 Thursday\
 n6/16/17 Friday\n6/17/17 Saturday\n\nNA Fun Run and BBQ Saturday 6/17/17\n
 35 Tower Street\, Weirs Beach\, Laconia\, NH\nLeaving Weirs Beach United 
 Methodist Church at noon\nRun to Sculptured Rocks in Groton\, NH (30-45 mi
 nute ride)\n\nFree BBQ and Fellowship at an Old Fashioned NH Swimming Hole
  \n
CATEGORIES:Recovery Event
LOCATION:Weirs United Methodist Church\, 35 Tower Street\, Laconia\, NH\, U
 nited States
GEO:43.6078389;-71.46086600000001
X-APPLE-STRUCTURED-LOCATION;VALUE=URI;X-ADDRESS=35 Tower Street\, Laconia\,
  NH\, United States;X-APPLE-RADIUS=100;X-TITLE=Weirs United Methodist Chur
 ch:geo:43.6078389,-71.46086600000001
END:VEVENT
END:VCALENDAR