BEGIN:VCALENDAR
VERSION:2.0
PRODID:-//wp-events-plugin.com//7.2.3.1//EN
BEGIN:VEVENT
UID:0-2017@gsana.org
DTSTART;VALUE=DATE:20221216
DTEND;VALUE=DATE:20221219
DTSTAMP:20220905T054911Z
URL:https://gsana.org/events/mrle-xvii/
SUMMARY:MRLE XVII
DESCRIPTION:Download Flyer Here\n\nOnline Registration Here\n\nHotel Room R
 eservation Link: Book your group rate for Multi Regional Learning Event\nM
 RLE XVII\nMulti Regional Learning Event XVII \n                
     December 16-18\, 2022\n\nIn the Maine Area\nPortland Sheraton at S
 able Oaks\n200 Sable Oaks Drive\nSouth Portland\, ME 04106\n\nThe Multi-Re
 gional Leaning Event (MRLE)\n\nConference Agenda Report (CAR) Workshop\n\n
 Hosted by the Northern New England Regional Service Committee of NA\nSuppo
 rted by member regions of the Northeast Zonal Forum\nFacilitated remotely 
 by NA World Services and the World Board\n\n&nbsp\;\n\n&nbsp\;\n
CATEGORIES:Service Meetings
LOCATION:Portland Sheraton at Sable Oaks\, 200 Sable Oaks Drive\, South Por
 tland \, ME\, 04106\, Northern New England\, United States
GEO:43.639776;-70.340811
X-APPLE-STRUCTURED-LOCATION;VALUE=URI;X-ADDRESS=200 Sable Oaks Drive\, Sout
 h Portland \, ME\, 04106\, Northern New England\, United States;X-APPLE-RA
 DIUS=100;X-TITLE=Portland Sheraton at Sable Oaks:geo:43.639776,-70.340811
END:VEVENT
END:VCALENDAR