BEGIN:VCALENDAR
VERSION:2.0
PRODID:-//wp-events-plugin.com//7.2.3.1//EN
BEGIN:VEVENT
UID:0-390@gsana.org
DTSTART:20151206T120000Z
DTEND:20151206T170000Z
DTSTAMP:20150803T064558Z
URL:https://gsana.org/events/mrle-xiv-sunday/
SUMMARY:MRLE XIV (Sunday)
DESCRIPTION:Download Flyer Here\n\nMRLE XIV\n\nMulti Regional Learning Even
 t\nDecember 4\, 5\, 6 2015\n\nAlfred\, Maine\nNotre Dame Spiritual Center\
 nShaker Hill Road\n\nFull Package – 2 Nights\, 4 Meals: $120.00\nPartial
  Package—1 Night\, 3 Meals: $75.00\nIndividual Meals Available:\n\n$13.0
 0 Breakfast\, $15.00 Lunch or Dinner (no meals Friday) Day packages $20.0
 0  – no meals included\n\nThere will be World Board member participatio
 n with the Conference Agenda Report on Saturday\n\nThis facility does not
  allow children or pets except for nursing infants and service animals\n\n
 Mail to:\n\nMRLE XIV\nPO Box 431\nGreenland\, NH 03840\n\nContacts: \n\nL
 ee O (MRLE Chair)\nHarry D (RD)\nJeremy F (RSC Chair) \n\nGSA 24 Hour Hel
 pline 888-624-3578
CATEGORIES:Recovery Event,Service Meetings
LOCATION:\, \, 
X-APPLE-STRUCTURED-LOCATION;VALUE=URI;X-ADDRESS=\, ;X-APPLE-RADIUS=100;X-TI
 TLE=:geo:0,0
END:VEVENT
END:VCALENDAR