BEGIN:VCALENDAR
VERSION:2.0
PRODID:-//wp-events-plugin.com//7.2.3.1//EN
BEGIN:VEVENT
UID:0-2213@gsana.org
DTSTART:20230912T230000Z
DTEND:20230913T020000Z
DTSTAMP:20230725T123618Z
URL:https://gsana.org/events/man-up-group-celebrates-16-years/
SUMMARY:Man Up Group Celebrates 16 Years!
DESCRIPTION:
CATEGORIES:Recovery Event
LOCATION:Arlington Street United Methodist Church\, 63 Arlington Street\, N
 ashua\, NH\, 03060\, Northern New England\, United States
GEO:42.755099;-71.447306
X-APPLE-STRUCTURED-LOCATION;VALUE=URI;X-ADDRESS=63 Arlington Street\, Nashu
 a\, NH\, 03060\, Northern New England\, United States;X-APPLE-RADIUS=100;X
 -TITLE=Arlington Street United Methodist Church:geo:42.755099,-71.447306
END:VEVENT
END:VCALENDAR