BEGIN:VCALENDAR
VERSION:2.0
PRODID:-//wp-events-plugin.com//7.2.3.1//EN
BEGIN:VEVENT
UID:0-1157@gsana.org
DTSTART:20180918T230000Z
DTEND:20180919T030000Z
DTSTAMP:20180703T154233Z
URL:https://gsana.org/events/man-up-group-11-year-anniversary/
SUMMARY:Man Up Group 11 Year Anniversary
DESCRIPTION:THE MAN UP GROUP of\n\nNarcotics Anonymous \n\nwithin the Grani
 te State Area\n\n&nbsp\;\n\nCelebrates it's 11 Year Anniversary of carryin
 g the message to the Addict who still suffers\n\n&nbsp\;\n\nDownload Flyer
  Here\n\n&nbsp\;\n\n~ Women &amp\; Family Members Welcome ~\n\nTuesday Sep
 tember 18\, 2018\n6pm – Dinner with Fellowship &amp\; Comedy Show\n7:30p
 m – Gratitude Meeting\n8:45 - 10:00pm – Fellowship\n\nUnitarian Univer
 salist Church Corner of Canal &amp\; Lowell Streets\, Nashua\, NH\n1st Flo
 or Dining Room \n\nAppetizers &amp\; Desserts Wanted\n\nContacts: Mike Cat
 \, Kevin D.\, Gerry D.
LOCATION:Unitarian Universalist Church\, 58 Lowell St\, Nashua\, NH\, 03060
 \, United States
GEO:42.7646093;-71.4639684
X-APPLE-STRUCTURED-LOCATION;VALUE=URI;X-ADDRESS=58 Lowell St\, Nashua\, NH\
 , 03060\, United States;X-APPLE-RADIUS=100;X-TITLE=Unitarian Universalist 
 Church:geo:42.7646093,-71.4639684
END:VEVENT
END:VCALENDAR