BEGIN:VCALENDAR
VERSION:2.0
PRODID:-//wp-events-plugin.com//7.2.3.1//EN
BEGIN:VEVENT
UID:0-1487@gsana.org
DTSTART:20191217T000000Z
DTEND:20191217T020000Z
DTSTAMP:20191022T201755Z
URL:https://gsana.org/events/maine-area-activities-committee-yankee-swap/
SUMMARY:Maine Area Activities Committee Yankee Swap
DESCRIPTION:ONE  OF  US  Group of Narcotics Anonymous is hosting an even
 t for our Activities Committee\n\nNA  Yankee Swap\n\nBring a Bagged Gift 
 and get a Number\, (any gift….diamonds to dirt)\n\nWhat You End Up With 
 Will Sure Be A Hoot\n\nWHEN:  Monday\, December 16. 2019\n\nWHERE:   Cl
 yde Bailey Drop In Center\n\n                      
   1311 Roosevelt Trail\, Raymond\n\nMEETING: 7:00 PM to 8 PM – Event to
  follow\n\nNAUGHTY or NICE you won’t want to miss this!\n\nNA MEMBERS ON
 LY PLEASE\n\n&nbsp\;\n\nDownload Event Flyer Here\n\n&nbsp\;\n\nContact: L
 eslie G 207-205-5190
CATEGORIES:Recovery Event
LOCATION:Clyde Bailey Drop In Center\, 1311 Roosevent Trail\, Raymond\, ME\
 , United States
GEO:43.891347;-70.46293
X-APPLE-STRUCTURED-LOCATION;VALUE=URI;X-ADDRESS=1311 Roosevent Trail\, Raym
 ond\, ME\, United States;X-APPLE-RADIUS=100;X-TITLE=Clyde Bailey Drop In C
 enter:geo:43.891347,-70.46293
END:VEVENT
END:VCALENDAR