BEGIN:VCALENDAR
VERSION:2.0
PRODID:-//wp-events-plugin.com//7.2.3.1//EN
BEGIN:VEVENT
UID:0-1489@gsana.org
DTSTART:20191214T230000Z
DTEND:20191215T030000Z
DTSTAMP:20191109T022122Z
URL:https://gsana.org/events/lifes-gifts-3rd-anniversary/
SUMMARY:Life's Gifts 3rd Anniversary
DESCRIPTION:Download Flyer Here\n\nLife's Gifts 3rd Anniversary\nGreen &amp
 \; Gold Speaker Jam\n\nDecember 14\, 2019\n6 - 10 pm\n\nCrossway Church\n3
 3 Pine Street\nNashua\, NH 03060\n\n~Free Food~Candlelight Meeting~
CATEGORIES:Recovery Event
LOCATION:Crossway Church\, 33 Pine Street\, Nashua\, NH\, 03060\, Northern 
 New England\, United States
GEO:42.758174;-71.472652
X-APPLE-STRUCTURED-LOCATION;VALUE=URI;X-ADDRESS=33 Pine Street\, Nashua\, N
 H\, 03060\, Northern New England\, United States;X-APPLE-RADIUS=100;X-TITL
 E=Crossway Church:geo:42.758174,-71.472652
END:VEVENT
END:VCALENDAR