BEGIN:VCALENDAR
VERSION:2.0
PRODID:-//wp-events-plugin.com//7.2.3.1//EN
BEGIN:VEVENT
UID:0-2525@gsana.org
DTSTART;TZID=America/New_York:20241212T180000
DTEND;TZID=America/New_York:20241212T203000
DTSTAMP:20241118T142037Z
URL:https://gsana.org/events/learning-to-live-celebrates-31-years/
SUMMARY:Learning to Live Celebrates 31 Years!
DESCRIPTION:
LOCATION:United Methodist Church\, 79 Clinton St\, Concord\, NH\, United St
 ates
GEO:43.189639;-71.549439
X-APPLE-STRUCTURED-LOCATION;VALUE=URI;X-ADDRESS=79 Clinton St\, Concord\, N
 H\, United States;X-APPLE-RADIUS=100;X-TITLE=United Methodist Church:geo:4
 3.189639,-71.549439
END:VEVENT
BEGIN:VTIMEZONE
TZID:America/New_York
X-LIC-LOCATION:America/New_York
BEGIN:STANDARD
DTSTART:20241103T010000
TZOFFSETFROM:-0400
TZOFFSETTO:-0500
TZNAME:EST
END:STANDARD
END:VTIMEZONE
END:VCALENDAR