BEGIN:VCALENDAR
VERSION:2.0
PRODID:-//wp-events-plugin.com//7.2.3.1//EN
BEGIN:VEVENT
UID:0-1161@gsana.org
DTSTART:20180916T170000Z
DTEND:20180916T183000Z
DTSTAMP:20180729T143203Z
URL:https://gsana.org/events/kickoff-meeting-for-gsacna-xi-in-2020/
SUMMARY:Kickoff Meeting for GSACNA XI in 2020
DESCRIPTION:Join us for the next Convention Kickoff meeting for GSACNA XI i
 n 2020.\n\nWhen: \n\nSunday September 16\, 2018\n \n\nWhere: \n\nVA Hospi
 tal:\n718 Smyth Road\nManchester NH.\n\nTime: 12:00 Noon\n\nContact: Joe G
 . 603-591-3107\n\n \n\nDOWNLOAD FLYER HERE\n\n\n\n\n\n
CATEGORIES:Service Meetings
LOCATION:VA Hospital\, Smyth Road\, Manchester\, NH\, United States
GEO:43.0113485;-71.4400331
X-APPLE-STRUCTURED-LOCATION;VALUE=URI;X-ADDRESS=Smyth Road\, Manchester\, N
 H\, United States;X-APPLE-RADIUS=100;X-TITLE=VA Hospital:geo:43.0113485,-7
 1.4400331
END:VEVENT
END:VCALENDAR