BEGIN:VCALENDAR
VERSION:2.0
PRODID:-//wp-events-plugin.com//7.2.3.1//EN
BEGIN:VEVENT
UID:0-1165@gsana.org
DTSTART:20181022T230000Z
DTEND:20181023T011500Z
DTSTAMP:20180902T065139Z
URL:https://gsana.org/events/judgement-free-zone-group-1st-anniversary/
SUMMARY:Judgement Free Zone Group 1st Anniversary
DESCRIPTION:Download Flyer Here \nJudgement Free Zone Group 1st Anniversary
 \nAtkinson Congregational Church\n101 Main Street\nAtkinson\, NH 03811\nMo
 nday October 22\, 2018\n6-7 pm Pot Luck Desserts - Bring your favorite sca
 ry dessert and/or flavored cream for coffee that will be provided.\nGratit
 ude meeting 7-8:15 pm\n
CATEGORIES:Recovery Event
LOCATION:Atkinson Congregational Church\, 101 Main Street\, Atkinson\, NH\,
  03811\, Northern New England\, United States
GEO:42.8370174;-71.15018959999998
X-APPLE-STRUCTURED-LOCATION;VALUE=URI;X-ADDRESS=101 Main Street\, Atkinson\
 , NH\, 03811\, Northern New England\, United States;X-APPLE-RADIUS=100;X-T
 ITLE=Atkinson Congregational Church:geo:42.8370174,-71.15018959999998
END:VEVENT
END:VCALENDAR