BEGIN:VCALENDAR
VERSION:2.0
PRODID:-//wp-events-plugin.com//7.2.3.1//EN
BEGIN:VEVENT
UID:0-1861@gsana.org
DTSTART:20210912T120000Z
DTEND:20210912T160000Z
DTSTAMP:20210822T121948Z
URL:https://gsana.org/events/hope-floats-10/
SUMMARY:Rescheduled to September 12! Hope Floats 10
DESCRIPTION:Download Flyer Here \n\nHosted by the Seacoast Area of NA  \
 n\nRescheduled to September 12\, 2021\nDue to Tropical Storm Henri\n\nNew 
 Location!\n\nBartlett Beach\n150 Winnisquam Ave.\nLaconia\, NH 12:00pm\n\n
 Launch by 12:30\n\nGratitude meeting on the lake by 1:00 PM \n\nCookout to
  follow!\n\nBring your own float. Grills will be available.\n\nBring a cha
 ir and a dish to share if you can.\n\nCome regardless\, there will be plen
 ty for everyone.\n\n24 Hour Helpline 888-NA-HELP-U\n\ngsana.org\n\n&nbsp\;
 \n\n&nbsp\;
CATEGORIES:Recovery Event
LOCATION:Bartlett Beach\, 150 Winnisquam Ave.\, Laconia\, NH\, 03246\, Nort
 hern New England\, United States
GEO:43.523263;-71.477771
X-APPLE-STRUCTURED-LOCATION;VALUE=URI;X-ADDRESS=150 Winnisquam Ave.\, Lacon
 ia\, NH\, 03246\, Northern New England\, United States;X-APPLE-RADIUS=100;
 X-TITLE=Bartlett Beach:geo:43.523263,-71.477771
END:VEVENT
END:VCALENDAR