BEGIN:VCALENDAR
VERSION:2.0
PRODID:-//wp-events-plugin.com//7.2.3.1//EN
BEGIN:VEVENT
UID:0-2205@gsana.org
DTSTART:20230517T000000Z
DTEND:20230517T020000Z
DTSTAMP:20230503T155629Z
URL:https://gsana.org/events/gsacna-xi-wrap-up-meeting/
SUMMARY:GSACNA XI Wrap up meeting
DESCRIPTION:Please join the Wrap up meeting for GSANAC XI\nTopic: GSANAC 
 – XII\n\nhttps://us06web.zoom.us/j/83691133658?pwd=SWpmeEpOL3k0aFJhditqS
 3MrKy8vQT09\nMeeting ID 836 9113 3658\nPasscode 1953\n\nDial by your locat
 ion\n646-558-8656
CATEGORIES:Service Meetings
LOCATION:https://us06web.zoom.us/j/83691133658?pwd=SWpmeEpOL3k0aFJhditqS3Mr
 Ky8vQT09
END:VEVENT
END:VCALENDAR