BEGIN:VCALENDAR
VERSION:2.0
PRODID:-//wp-events-plugin.com//7.2.3.1//EN
BEGIN:VEVENT
UID:0-1718@gsana.org
DTSTART:20210327T233000Z
DTEND:20210328T013000Z
DTSTAMP:20210227T122005Z
URL:https://gsana.org/events/gsa-virtual-game-night/
SUMMARY:GSA Virtual Game Night
DESCRIPTION:Download Flyer Here\n\nCome have fun at the GSA Virtual Game N
 ight!\n\nSaturday\, March 27\, 2021\n\n6:30 – 8:30 pm\n\nZoom ID 967-673
 9-1494\n\nLaughter Will Be Had!\n\nPrizes Will Be Won!\n\nGames Will Be Pl
 ayed!\n\nCharades and Cards Against Humanity
CATEGORIES:Recovery Event
END:VEVENT
END:VCALENDAR