BEGIN:VCALENDAR
VERSION:2.0
PRODID:-//wp-events-plugin.com//7.2.3.1//EN
BEGIN:VEVENT
UID:0-1848@gsana.org
DTSTART:20210508T170000Z
DTEND:20210508T203000Z
DTSTAMP:20210417T115535Z
URL:https://gsana.org/events/gsa-take-a-breath-walk-rescheduled-from-april
 -17th/
SUMMARY:GSA Take a Breath Walk (Rescheduled from April 17th)
DESCRIPTION:Download Flyer Here \n\nRESCHEDULED FROM APRIL 17th to MAY 8\n
 \nGSA Take A Breath Walk\nIt Starts With the First Step\n\nThe Loop Trail\
 nTower Hill\nAuburn\, NH\n\nJoin us for a scenic walk around the loop trai
 l\, followed by a meeting at the end of the  trail.\n\nMap may not be pre
 cise
CATEGORIES:Recovery Event
LOCATION:Tower Hill Pond Loop Trail\, Tower Hill Road \, Auburn\, NH\, 0303
 2\, Northern New England\, United States
GEO:43.033502;-71.35694
X-APPLE-STRUCTURED-LOCATION;VALUE=URI;X-ADDRESS=Tower Hill Road \, Auburn\,
  NH\, 03032\, Northern New England\, United States;X-APPLE-RADIUS=100;X-TI
 TLE=Tower Hill Pond Loop Trail:geo:43.033502,-71.35694
END:VEVENT
END:VCALENDAR