BEGIN:VCALENDAR
VERSION:2.0
PRODID:-//wp-events-plugin.com//7.2.3.1//EN
BEGIN:VEVENT
UID:0-1846@gsana.org
DTSTART:20210531T090000Z
DTEND:20210531T180000Z
DTSTAMP:20210412T101859Z
URL:https://gsana.org/events/gsa-may-cookout/
SUMMARY:GSA May Cookout
DESCRIPTION:Download Flyer Here \n\nGSA Memorial Day Cookout!\n\nMonday Ma
 y 31\, 2021\n9 am - 6 pm with  NA Recovery meeting at 1 pm\n\nElm Brook P
 ark (pavilion #1)\n2097 Maple Street \nHopkinton\, NH 03229\n\nBRING A CH
 AIR &amp\; WEAR A MASK\nSOCIAL DISTANCING A MUST!\n\nThe park fee is $5.00
  per car\nNo parking on the grass and no pets\n\n&nbsp\;\n\n&nbsp\;\n\n&nb
 sp\;
CATEGORIES:Recovery Event
LOCATION:Elm Brook State Park\, 2097 Maple Street\, Contoocook\, NH\, 03229
 \, Northern New England\, United States
GEO:43.190388921069754;-71.72966576335449
X-APPLE-STRUCTURED-LOCATION;VALUE=URI;X-ADDRESS=2097 Maple Street\, Contooc
 ook\, NH\, 03229\, Northern New England\, United States;X-APPLE-RADIUS=100
 ;X-TITLE=Elm Brook State Park:geo:43.190388921069754,-71.72966576335449
END:VEVENT
END:VCALENDAR