BEGIN:VCALENDAR
VERSION:2.0
PRODID:-//wp-events-plugin.com//7.2.3.1//EN
BEGIN:VEVENT
UID:0-1843@gsana.org
DTSTART:20210620T133000Z
DTEND:20210620T143000Z
DTSTAMP:20210410T123836Z
URL:https://gsana.org/events/gsa-literature-committee/
SUMMARY:GSA Literature Committee
DESCRIPTION:The GSA Literature Committee meets every three months virtually
  (via Zoom) on the 3rd Sunday of the month.\n\nThe committee will meet on 
 the following dates:\n\n\n\n\n\n\n6/20/21\n9/19/21\n12/19/21\n\n\n\n\n\n\n
 &nbsp\;\n\nMeeting ID: 603 432 0791\nPassword: 9AMSunday\n\n&nbsp\;\n\nSee
  the GSA Literature Committee page for other information.
END:VEVENT
END:VCALENDAR