BEGIN:VCALENDAR
VERSION:2.0
PRODID:-//wp-events-plugin.com//7.2.3.1//EN
BEGIN:VEVENT
UID:0-1845@gsana.org
DTSTART:20211226T070000Z
DTEND:20211226T080000Z
DTSTAMP:20210914T050346Z
URL:https://gsana.org/events/gsa-literature-committee-3/
SUMMARY:GSA Literature Committee
DESCRIPTION:The Granite State Area’s Literature Committee meets quarterly
  on the 4th Sunday of the month\nprior to Literature Sales at 7am at 88 Pr
 iscilla Lane Unit 4 Auburn\, NH  09/26\, 12/26 \n\nSee the GSA Literatur
 e Committee page for other information.
CATEGORIES:Service Meetings
END:VEVENT
END:VCALENDAR