BEGIN:VCALENDAR
VERSION:2.0
PRODID:-//wp-events-plugin.com//7.2.3.1//EN
BEGIN:VEVENT
UID:0-1844@gsana.org
DTSTART:20210926T070000Z
DTEND:20210926T080000Z
DTSTAMP:20210914T050224Z
URL:https://gsana.org/events/gsa-literature-committee-2/
SUMMARY:GSA Literature Committee
DESCRIPTION:The Granite State Area’s Literature Committee meets quarterly
  on the 4th Sunday of the month\n prior to Literature Sales at 7am at 88 P
 riscilla Lane Unit 4 Auburn\, NH  09/26\, 12/26 \n\n&nbsp\;\n\nSee the G
 SA Literature Committee page for other information.
CATEGORIES:Service Meetings
END:VEVENT
END:VCALENDAR