BEGIN:VCALENDAR
VERSION:2.0
PRODID:-//wp-events-plugin.com//7.2.3.1//EN
BEGIN:VEVENT
UID:0-1326@gsana.org
DTSTART:20190914T200000Z
DTEND:20190915T000000Z
DTSTAMP:20190811T143705Z
URL:https://gsana.org/events/gsa-funpark-getaway/
SUMMARY:GSA Funpark Getaway
DESCRIPTION:Download Flyer Here \n\nGranite State Area Funpark Getaway\nFu
 ndraiser for the GSA Convention \n\nMel's Funway Park\n454 Route 3A Litch
 field\, NH\nSeptember 14\, 2019\n3 pm to 7 pm\n\nCome join the Convention 
 Committee on this fundraiser.\nBatting Cages\, Arcade\, Laser Tag\, Mini G
 olf and more.\n\nTickets: $20 each/$25 at door\n\n&nbsp\;
CATEGORIES:Recovery Event
LOCATION:Mel's Funway Park\, 454 Route 3A\, Litchfield\, NH\, 03052\, North
 ern New England\, United States
GEO:42.8805679;-71.46792089999997
X-APPLE-STRUCTURED-LOCATION;VALUE=URI;X-ADDRESS=454 Route 3A\, Litchfield\,
  NH\, 03052\, Northern New England\, United States;X-APPLE-RADIUS=100;X-TI
 TLE=Mel's Funway Park:geo:42.8805679,-71.46792089999997
END:VEVENT
END:VCALENDAR