BEGIN:VCALENDAR
VERSION:2.0
PRODID:-//wp-events-plugin.com//7.2.3.1//EN
BEGIN:VEVENT
UID:0-2020@gsana.org
DTSTART;VALUE=DATE:20230428
DTEND;VALUE=DATE:20230501
DTSTAMP:20230428T005157Z
URL:https://gsana.org/events/gsa-convention-lost-dreams-awaken/
SUMMARY:GSA Convention Lost Dreams Awaken
DESCRIPTION:The lineup has been announced!\n\nSee everyone this weekend\, p
 lease register onsite.\nFriday 2-7 &amp\; 9-10:30\nSaturday 9-4\n
CATEGORIES:Recovery Event
LOCATION:Waterville Valley Conference Center\, 56 Packard's Road\, Watervil
 le Valley\, 03215\, United States
GEO:43.948557;-71.506329
X-APPLE-STRUCTURED-LOCATION;VALUE=URI;X-ADDRESS=56 Packard's Road\, Watervi
 lle Valley\, 03215\, United States;X-APPLE-RADIUS=100;X-TITLE=Waterville V
 alley Conference Center:geo:43.948557,-71.506329
END:VEVENT
END:VCALENDAR