BEGIN:VCALENDAR
VERSION:2.0
PRODID:-//wp-events-plugin.com//7.2.3.1//EN
BEGIN:VEVENT
UID:0-1859@gsana.org
DTSTART:20210731T100000Z
DTEND:20210731T160000Z
DTSTAMP:20210730T182354Z
URL:https://gsana.org/events/gsa-convention-kickoff-cookout/
SUMMARY:GSA Convention Kickoff Cookout !!! EVENT CANCELLED !!!
DESCRIPTION:&nbsp\;\n\nTHIS EVENT HAS BEEN CANCELLED DUE TO ELM BROOK FLOOD
 ING\n\nFurther information forthcoming.\n\n&nbsp\;\n\nGSA Convention Commi
 ttee Kickoff Cookout\n(GSA Convention Fall 2022 - LETS make it happen!)\n\
 nSaturday July\, 31 2021\n10 am - 4 pm\n\nElm Brook State Park\n2097 Maple
  Street\nHopkinton\, NH 03229\nPavilion #2\n\nFood! Fun! Fellowship!\nNA R
 ecovery Meeting at 1 pm 
CATEGORIES:Recovery Event
LOCATION:Elm Brook State Park\, 2097 Maple Street\, Contoocook\, NH\, 03229
 \, Northern New England\, United States
GEO:43.190388921069754;-71.72966576335449
X-APPLE-STRUCTURED-LOCATION;VALUE=URI;X-ADDRESS=2097 Maple Street\, Contooc
 ook\, NH\, 03229\, Northern New England\, United States;X-APPLE-RADIUS=100
 ;X-TITLE=Elm Brook State Park:geo:43.190388921069754,-71.72966576335449
END:VEVENT
END:VCALENDAR