BEGIN:VCALENDAR
VERSION:2.0
PRODID:-//wp-events-plugin.com//7.2.3.1//EN
BEGIN:VEVENT
UID:0-2018@gsana.org
DTSTART:20221001T120000Z
DTEND:20221001T160000Z
DTSTAMP:20220911T212636Z
URL:https://gsana.org/events/gsa-apple-picking/
SUMMARY:GSA Apple Picking
DESCRIPTION:Download Flyer Here \n\nGranite State Activities Committee\n\n
 Join Us For Apple Picking!\n\nSaturday\, October 1\, 2022\nNoon - 4 pm Mee
 ting in the field at 2 pm\n\nDemeritt Hill Farm\n20 Orchard Way\n Lee\, NH
  03861
CATEGORIES:Recovery Event
LOCATION:DeMeritt Hill Farm\, 20 Orchard Way\, Lee\, NH\, 03861\, Northern 
 New England\, United States
GEO:43.156996;-70.966641
X-APPLE-STRUCTURED-LOCATION;VALUE=URI;X-ADDRESS=20 Orchard Way\, Lee\, NH\,
  03861\, Northern New England\, United States;X-APPLE-RADIUS=100;X-TITLE=D
 eMeritt Hill Farm:geo:43.156996,-70.966641
END:VEVENT
END:VCALENDAR