BEGIN:VCALENDAR
VERSION:2.0
PRODID:-//wp-events-plugin.com//7.2.3.1//EN
BEGIN:VEVENT
UID:0-1164@gsana.org
DTSTART:20180903T150000Z
DTEND:20180903T220000Z
DTSTAMP:20180902T055431Z
URL:https://gsana.org/events/gsa-annual-labor-day-cookout/
SUMMARY:GSA Annual Labor Day Cookout
DESCRIPTION:Download Flyer Here\nGSA ANNUAL LABOR DAY COOKOUT\nSeptember 3\
 , 2018\n10 am - 5 pm\nElm Brook State Park\n2097 Maple Street\nContoocook\
 , NH\nFamily\, Food\, Fellowship &amp\; Fun\nGratitude Meeting\nH&amp\;I L
 earning Presentation \nOutdoor Activities\n$5 per car\n
CATEGORIES:Recovery Event
LOCATION:Elm Brook State Park\, 2097 Maple Street\, Contoocook\, NH\, 03229
 \, Northern New England\, United States
GEO:43.190388921069754;-71.72966576335449
X-APPLE-STRUCTURED-LOCATION;VALUE=URI;X-ADDRESS=2097 Maple Street\, Contooc
 ook\, NH\, 03229\, Northern New England\, United States;X-APPLE-RADIUS=100
 ;X-TITLE=Elm Brook State Park:geo:43.190388921069754,-71.72966576335449
END:VEVENT
END:VCALENDAR