BEGIN:VCALENDAR
VERSION:2.0
PRODID:-//wp-events-plugin.com//7.2.3.1//EN
BEGIN:VEVENT
UID:0-2488@gsana.org
DTSTART:20241207T170000Z
DTEND:20241207T210000Z
DTSTAMP:20241028T114021Z
URL:https://gsana.org/events/gift-of-today-holiday-speaker-jam/
SUMMARY:Gift of Today - Holiday Speaker Jam!
DESCRIPTION:
CATEGORIES:Recovery Event
LOCATION:21 Front St Exeter\, 21 Front St\, Exeter\, NH\, United States
GEO:42.980699;-70.947455
X-APPLE-STRUCTURED-LOCATION;VALUE=URI;X-ADDRESS=21 Front St\, Exeter\, NH\,
  United States;X-APPLE-RADIUS=100;X-TITLE=21 Front St Exeter:geo:42.980699
 ,-70.947455
END:VEVENT
END:VCALENDAR