BEGIN:VCALENDAR
VERSION:2.0
PRODID:-//wp-events-plugin.com//7.2.3.1//EN
BEGIN:VEVENT
UID:0-2200@gsana.org
DTSTART:20230307T180000Z
DTEND:20230307T203000Z
DTSTAMP:20230227T052213Z
URL:https://gsana.org/events/gift-of-today-9th-anniversary/
SUMMARY:Gift of Today 9th Anniversary
DESCRIPTION:Download Flyer Here\n\nGift of Today 9th Anniversary!\n\nTuesda
 y\, March 7\, 2023\n6 pm Dinner \n7 pm NA Recovery Meeting\n\nCongregatio
 nal Church\n21 Front Street\nExeter\, NH 03833
CATEGORIES:Recovery Event
LOCATION:Congregational Church\, 21 Front Street\, Exeter\, NH\, 03833\, No
 rthern New England\, United States
GEO:42.98071;-70.947389
X-APPLE-STRUCTURED-LOCATION;VALUE=URI;X-ADDRESS=21 Front Street\, Exeter\, 
 NH\, 03833\, Northern New England\, United States;X-APPLE-RADIUS=100;X-TIT
 LE=Congregational Church:geo:42.98071,-70.947389
END:VEVENT
END:VCALENDAR