BEGIN:VCALENDAR
VERSION:2.0
PRODID:-//wp-events-plugin.com//7.2.3.1//EN
BEGIN:VEVENT
UID:1-2514@gsana.org
DTSTART:20241104T000000Z
DTEND:20241104T010000Z
DTSTAMP:20241204T123754Z
URL:https://gsana.org/events/futs-campout-2025-subcommittee-meetings-2024-
 11-03/
SUMMARY:FUTS Campout 2025 Subcommittee Meetings
DESCRIPTION:
CATEGORIES:Service Meetings
LOCATION:https://us06web.zoom.us/j/3661053634
END:VEVENT
END:VCALENDAR