BEGIN:VCALENDAR
VERSION:2.0
PRODID:-//wp-events-plugin.com//7.2.3.1//EN
BEGIN:VEVENT
UID:0-2372@gsana.org
DTSTART:20240129T180000Z
DTEND:20240129T203000Z
DTSTAMP:20231218T050858Z
URL:https://gsana.org/events/franklin-freedom-group-1-year-anniversary/
SUMMARY:Franklin Freedom Group 1 Year Anniversary
DESCRIPTION:
ATTACH;FMTTYPE=image/jpeg:https://gsana.org/wp-content/uploads/2023/12/202
 4-01Franklin-Freedom-scaled.jpg
CATEGORIES:Recovery Event
LOCATION:Unitarian Universalist Church\, 206 Central Street\, Franklin\, NH
 \, 02325\, Northern New England\, United States
GEO:43.443801;-71.650139
X-APPLE-STRUCTURED-LOCATION;VALUE=URI;X-ADDRESS=206 Central Street\, Frankl
 in\, NH\, 02325\, Northern New England\, United States;X-APPLE-RADIUS=100;
 X-TITLE=Unitarian Universalist Church:geo:43.443801,-71.650139
END:VEVENT
END:VCALENDAR