BEGIN:VCALENDAR
VERSION:2.0
PRODID:-//wp-events-plugin.com//7.2.3.1//EN
BEGIN:VEVENT
UID:0-2016@gsana.org
DTSTART:20220915T190000Z
DTEND:20220915T203000Z
DTSTAMP:20220905T044719Z
URL:https://gsana.org/events/fitf-subcommittee-meeting/
SUMMARY:FITF Subcommittee Meeting
DESCRIPTION:Fellowship in the Field Subcommittee Meeting\n\n9/15/22 at 7 pm
  online only\n\nZoom ID 943 1411 8269\nPasscode 0000\n\n&nbsp\;
CATEGORIES:Service Meetings
END:VEVENT
END:VCALENDAR